BEGIN:VCALENDAR
VERSION:2.0
PRODID:icalendar-ruby
CALSCALE:GREGORIAN
METHOD:PUBLISH
BEGIN:VEVENT
DTSTAMP:20260422T084737Z
UID:192-1747658@dunnscreek.com
DTSTART:20260924T140000Z
DTEND:20260924T160000Z
CLASS:PUBLIC
CREATED:20260421T200926
DESCRIPTION:This ministry is led by Debbie Carter and is meant to be a bles
 sing to those in our church family who are home bound. We are so thankful 
 for each person who sends a card or visits with those who are unable to ma
 intain their in person attendance.
LAST-MODIFIED:20260421T200926
LOCATION:
SUMMARY:Visitation Ministry
URL;VALUE=URI:https://dunnscreek.com/events/visitation-ministry/2026-09-24
ATTACH;FILENAME=VISITATION-MINISTRY-1920-x-1080-px-1.png;FMTTYPE=image/png:
 https://dq5pwpg1q8ru0.cloudfront.net/2026/03/02/19/27/54/54d22063-6acd-46d
 d-933a-d2e8bc5fb541/VISITATION-MINISTRY-1920-x-1080-px-1.png
END:VEVENT
END:VCALENDAR
