BEGIN:VCALENDAR
VERSION:2.0
PRODID:icalendar-ruby
CALSCALE:GREGORIAN
METHOD:PUBLISH
BEGIN:VEVENT
DTSTAMP:20260422T125253Z
UID:205-1711312@dunnscreek.com
DTSTART:20260505T111500Z
DTEND:20260505T121500Z
CLASS:PUBLIC
CREATED:20260415T123800
DESCRIPTION:If you would like to help us set up a Cereal Bar for the teache
 rs at Sheffield Elementary\, let us know here. 
LAST-MODIFIED:20260415T123800
LOCATION:Sheffield Elementary
SUMMARY:Sheffield Elementary Teacher Appreciation!
URL;VALUE=URI:https://dunnscreek.com/events/sheffield-elementary-teacher-ap
 preciation/2026-05-05
ATTACH;FILENAME=saturday.png;FMTTYPE=image/png:https://dq5pwpg1q8ru0.cloudf
 ront.net/2026/04/15/16/38/00/9d79ea39-a53d-47ec-bedd-f12bdd8b1a28/saturday
 .png
END:VEVENT
END:VCALENDAR
